BEGIN:VCALENDAR
VERSION:2.0
PRODID:gruene-gundelfingen.de
METHOD:PUBLISH
BEGIN:VTIMEZONE
TZID:Europe/Berlin
X-LIC-LOCATION:Europe/Berlin
BEGIN:DAYLIGHT
TZOFFSETFROM:+0100
TZOFFSETTO:+0200
TZNAME:CEST
DTSTART:19700329T020000
RRULE:FREQ=YEARLY;INTERVAL=1;BYDAY=-1SU;BYMONTH=3
END:DAYLIGHT
BEGIN:STANDARD
TZOFFSETFROM:+0200
TZOFFSETTO:+0100
TZNAME:CET
DTSTART:19701025T030000
RRULE:FREQ=YEARLY;INTERVAL=1;BYDAY=-1SU;BYMONTH=10
END:STANDARD
END:VTIMEZONE
BEGIN:VEVENT
UID:f6f4593023460b10288b6251b79ce002@gruene-gundelfingen.de
URL;VALUE=URI:https://gruene-gundelfingen.de/termine/emmendingen-steht-au
 f-gemeinsam-fuer-die-demokratie/
LOCATION:Marktplatz, Emmendingen
SUMMARY:Emmendingen steht auf – Gemeinsam für die Demokratie
DESCRIPTION;ALTREP="data:text/html,%0A%3Cp%3EWir%20wollen%20in%20Emmendin
 gen%20ein%20Zeichen%20setzen%20f%C3%BCr%20eine%20lebendige%20Demokratie%2
 0%E2%80%93%20und%20wir%20freuen%20uns%20sehr%2C%20dass%20wir%20es%20gesch
 afft%20haben%2C%20in%20kurzer%20Zeit%20so%20viele%20Unterst%C3%BCtzer%20a
 us%20allen%20gesellschaftlichen%20Bereichen%20zu%20finden%21%20Mit%20dabe
 i%20sind%20neben%20den%20politischen%20Parteien%20unter%20anderem%20Gewer
 kschaften%2C%20Kirchen%2C%20Sozial-%20und%20Umweltverb%C3%A4nde%20%E2%80%
 93%20vielen%20Dank%20daf%C3%BCr%21%3C%2Fp%3E%0A%0A%0A%0A%3Cp%3EDie%20Kund
 gebung%20unter%20dem%20Motto%26nbsp%3B%3Cstrong%3E%E2%80%9EEmmendingen%20
 steht%20auf%20%E2%80%93%20Gemeinsam%20f%C3%BCr%20die%20Demokratie%21%E2%8
 0%9C%26nbsp%3B%3C%2Fstrong%3Efindet%20am%26nbsp%3B%3Cstrong%3ESonntag%2C%
 20den%204.%20Februar%202024%20um%2015%20Uhr%26nbsp%3B%3C%2Fstrong%3Eauf%2
 0dem%26nbsp%3B%3Cstrong%3EEmmendinger%20Marktplatz%26nbsp%3B%3C%2Fstrong%
 3Estatt.%3C%2Fp%3E%0A%0A%0A%0A%3Cp%3ELasst%20uns%20zusammen%20laut%20gege
 n%20Faschismus%20und%20rechte%20Hetze%20protestieren%21%3C%2Fp%3E%0A%0A%0
 A%0A%3Cp%3EAlle%20B%C3%BCrgerinnen%20und%20B%C3%BCrger%20sind%20eingelade
 n%2C%20zahlreich%20teilzunehmen%20und%20f%C3%BCr%20eine%20starke%20Demokr
 atie%20aufzustehen%21%3C%2Fp%3E%0A":Wir wollen in Emmendingen ein Zeichen
  setzen für eine lebendige Demokratie – und wir freuen uns sehr\, dass
  wir es geschafft haben\, in kurzer Zeit so viele Unterstützer aus allen
  gesellschaftlichen Bereichen zu finden! Mit dabei sind neben den politis
 chen Parteien unter anderem Gewerkschaften\, Kirchen\, Sozial- und Umwelt
 verbände – vielen Dank dafür!\n\nDie Kundgebung unter dem Motto „E
 mmendingen steht auf – Gemeinsam für die Demokratie!“ findet am So
 nntag\, den 4. Februar 2024 um 15 Uhr auf dem Emmendinger Marktplatz s
 tatt.\n\nLasst uns zusammen laut gegen Faschismus und rechte Hetze protes
 tieren!\n\nAlle Bürgerinnen und Bürger sind eingeladen\, zahlreich teil
 zunehmen und für eine starke Demokratie aufzustehen!
CLASS:PUBLIC
DTSTART;TZID=Europe/Berlin:20240204T150000
DTEND;TZID=Europe/Berlin:20240204T160000
DTSTAMP:20260421T014418
END:VEVENT
END:VCALENDAR